BEGIN:VCALENDAR
VERSION:2.0
PRODID:-//Investigación para Chloe - ECPv6.3.2//NONSGML v1.0//EN
CALSCALE:GREGORIAN
METHOD:PUBLISH
X-WR-CALNAME:Investigación para Chloe
X-ORIGINAL-URL:https://investigacionparachloe.org/en/
X-WR-CALDESC:Events for Investigación para Chloe
REFRESH-INTERVAL;VALUE=DURATION:PT1H
X-Robots-Tag:noindex
X-PUBLISHED-TTL:PT1H
BEGIN:VTIMEZONE
TZID:UTC
BEGIN:STANDARD
TZOFFSETFROM:+0000
TZOFFSETTO:+0000
TZNAME:UTC
DTSTART:20190101T000000
END:STANDARD
END:VTIMEZONE
BEGIN:VEVENT
DTSTART;VALUE=DATE:20190922
DTEND;VALUE=DATE:20190923
DTSTAMP:20260421T053313
CREATED:20200303T100827Z
LAST-MODIFIED:20200312T113231Z
UID:1919-1569189600-1569189599@investigacionparachloe.org
SUMMARY:Walk for Chloe
DESCRIPTION:Sin lugar a dudas el 23 de Septiembre del 2019 será un día difícil de olvidar para Chloe y para mi\, fué el día en que los compañeritos\, maestros y autoridades de su colegio “Marbella Montessori” salieron a la calle a pedir ayuda para nuestro proyecto de investigación.\nSalieron todos juntos caminando por el paseo marítimo de San Pedro y caminaron hasta Puerto Banús con sus pequeñas pancartas a gritar al mundo y muy especialmente a nuestra comunidad AQUÍ ESTAMOS Y ESTAMOS JUNTO A CHLOE\, AYÚDANOS A CONSEGUIR SU TRATAMIENTO!!\nNunca antes habíamos sentido ese calor tan intenso\, el que te da esa sonrisa tierna\, la mirada inocente de un niño pidiendo ayuda para su amiguita….fué un día repleto de emociones\, hubo risas\, lágrimas\, juegos y sobre todo mucho amor\, todos lo vivimos como una fiesta a la vida\, a la solidaridad y a la empatía.\nNuestro inmenso agradecimiento a Ann Marie\, Michael\, a todo el equipo docente del Colegio Marbella Montessori y a todos los padres y niños que nos acompañaron en ese maravilloso viaje hacia la esperanza!
URL:https://investigacionparachloe.org/en/evento/walk-for-chloe/
LOCATION:Marbella Montessori British School\, Casa del Abuelo\, Urbanization Valle del Sol\, s/n\, San Pedro Alcántara\, Málaga\, 29670\, Spain
ATTACH;FMTTYPE=image/jpeg:https://investigacionparachloe.org/wp-content/uploads/walk-for-chloe-cocofishgo-investigacionparachloe-1.jpg
END:VEVENT
BEGIN:VEVENT
DTSTART;VALUE=DATE:20190911
DTEND;VALUE=DATE:20190913
DTSTAMP:20260421T053313
CREATED:20200303T131814Z
LAST-MODIFIED:20200312T113417Z
UID:1926-1568239200-1568325599@investigacionparachloe.org
SUMMARY:A LA CARRERA POR CHLOE
DESCRIPTION:Ya han pasado 5 años desde que Chloe dejara las aulas\, pero su inmenso cariño y apoyo nos llega hoy otra vez en forma de Carrera Solidaria!\nHoy\, los peques de PINOLIVO acompañados de todo el equipo del centro educativo y de muchos mamás y papás que se han querido sumar a nuestra causa\, han salido a la calle a correr con sus dorsales solidarios para pedir ayuda para Chloe y también para recaudar fondos para poder financiar nuestro proyecto de investigación #Cocofishgo.\nInfinitas gracias a todo Pinolivo\, a los peques\, a las maestras\, monitoras y demás trabajador@s del centro por tanto tanto amor.
URL:https://investigacionparachloe.org/en/evento/a-la-carrera-por-chloe/
LOCATION:Colegio Infantil Público Pinolivo\, Calle La Hacienda\, 0 S/N Urbanización El Olivar\, Marbella\, Málaga\, 29604\, Spain
ATTACH;FMTTYPE=image/jpeg:https://investigacionparachloe.org/wp-content/uploads/IMG_6009.jpg
END:VEVENT
END:VCALENDAR